BEGIN:VCALENDAR
VERSION:2.0
PRODID:-//Ciudad Rodrigo - ECPv6.15.20//NONSGML v1.0//EN
CALSCALE:GREGORIAN
METHOD:PUBLISH
X-WR-CALNAME:Ciudad Rodrigo
X-ORIGINAL-URL:https://turismo.ciudadrodrigo.es
X-WR-CALDESC:Eventos para Ciudad Rodrigo
REFRESH-INTERVAL;VALUE=DURATION:PT1H
X-Robots-Tag:noindex
X-PUBLISHED-TTL:PT1H
BEGIN:VTIMEZONE
TZID:UTC
BEGIN:STANDARD
TZOFFSETFROM:+0000
TZOFFSETTO:+0000
TZNAME:UTC
DTSTART:20250101T000000
END:STANDARD
END:VTIMEZONE
BEGIN:VEVENT
DTSTART;TZID=UTC:20260211T193000
DTEND;TZID=UTC:20260211T203000
DTSTAMP:20260423T211748
CREATED:20260117T102822Z
LAST-MODIFIED:20260120T092308Z
UID:24911-1770838200-1770841800@turismo.ciudadrodrigo.es
SUMMARY:CARNAVAL DEL TORO. “El Carnaval del Toro en Comic”
DESCRIPTION:Hoy a las 19:30 horas\, la Casa Municipal de Cultura\, acogerá la presentación de la publicación “El Carnaval del Toro en comic”\, con dibujos de Ramón Sánchez Tello. Textos y edición de Miguel Cid Cebrián.
URL:https://turismo.ciudadrodrigo.es/evento/el-carnaval-del-toro-en-comic/
CATEGORIES:Carnaval,Ciudad Rodrigo
END:VEVENT
END:VCALENDAR