BEGIN:VCALENDAR
VERSION:2.0
PRODID:-//Ciudad Rodrigo - ECPv6.15.20//NONSGML v1.0//EN
CALSCALE:GREGORIAN
METHOD:PUBLISH
X-WR-CALNAME:Ciudad Rodrigo
X-ORIGINAL-URL:https://turismo.ciudadrodrigo.es
X-WR-CALDESC:Eventos para Ciudad Rodrigo
REFRESH-INTERVAL;VALUE=DURATION:PT1H
X-Robots-Tag:noindex
X-PUBLISHED-TTL:PT1H
BEGIN:VTIMEZONE
TZID:UTC
BEGIN:STANDARD
TZOFFSETFROM:+0000
TZOFFSETTO:+0000
TZNAME:UTC
DTSTART:20250101T000000
END:STANDARD
END:VTIMEZONE
BEGIN:VEVENT
DTSTART;TZID=UTC:20260213T180000
DTEND;TZID=UTC:20260213T233000
DTSTAMP:20260423T181921
CREATED:20260117T104205Z
LAST-MODIFIED:20260120T092836Z
UID:24913-1771005600-1771025400@turismo.ciudadrodrigo.es
SUMMARY:CARNAVAL DEL TORO. XVII Campanazo del Carnaval del Toro 2026
DESCRIPTION:Hoy a las 18:15 horas\, tendrá lugar el XVII Campanazo del Carnaval del Toro 2026\, promovido por la Asociación Cultural Carnavaldeltoro.es\, con reparto previo de pañuelos en la zona del Registro y la participación de las charangas “Santa Ana” y “Manliao”.\n\n\n\nA las 19:00 horas\, el Tradicional encierro de mansos desde los toriles de San Pelayo para “enseñarles el camino”\, con cabestros de la ganadería de D. Luis Cebrián.\n\n\n\nA las 20:15 horas\, se realizará el pregoncillo del carnaval desde la galería alta de la Casa Consistorial por el Pregonero Mayor D. Alejandro Talavante Rodríguez\, dando el campanazo inicial de las Fiestas Grandes\, para posteriormente dirigirse al Teatro Nuevo “Fernando Arrabal” donde tendrá lugar el Pregón Mayor del Carnaval del Toro de 2026.\n\n\n\nEntrada gratuita con invitación hasta completar aforo. Se entregarán 4 invitaciones por persona\, poniéndose a disposición del público en la taquilla del Teatro Nuevo\, el martes 10 de febrero\, de 8:00 a 10:00 horas y el viernes día 13 de febrero de 19:30 horas en adelante o hasta completar el aforo.
URL:https://turismo.ciudadrodrigo.es/evento/xvii-campanazo-del-carnaval-del-toro-2026/
CATEGORIES:Carnaval,Ciudad Rodrigo
END:VEVENT
END:VCALENDAR