BEGIN:VCALENDAR
VERSION:2.0
PRODID:-//Ciudad Rodrigo - ECPv6.15.20//NONSGML v1.0//EN
CALSCALE:GREGORIAN
METHOD:PUBLISH
X-ORIGINAL-URL:https://turismo.ciudadrodrigo.es
X-WR-CALDESC:Eventos para Ciudad Rodrigo
REFRESH-INTERVAL;VALUE=DURATION:PT1H
X-Robots-Tag:noindex
X-PUBLISHED-TTL:PT1H
BEGIN:VTIMEZONE
TZID:UTC
BEGIN:STANDARD
TZOFFSETFROM:+0000
TZOFFSETTO:+0000
TZNAME:UTC
DTSTART:20250101T000000
END:STANDARD
END:VTIMEZONE
BEGIN:VEVENT
DTSTART;VALUE=DATE:20260214
DTEND;VALUE=DATE:20260215
DTSTAMP:20260423T164700
CREATED:20260117T114638Z
LAST-MODIFIED:20260120T092947Z
UID:24919-1771027200-1771113599@turismo.ciudadrodrigo.es
SUMMARY:CARNAVAL EL TORO. Sábado de Carnaval
DESCRIPTION:Tras la tradicional «cogida de barreras por los mozos» a las 00:05 horas y posterior Capea nocturna con 2 toros de la Ganadería de D. Antonio López Gibaja (Oliva de Plasencia\, Cáceres). dio inicio el Carnaval Mirobrigense.\n\n\nHoy a las 11:00 horas\, se celebrará el XV Toro del Antruejo 2026\, desde los toriles de San Pelayo\, de nombre “Valenciano” de la Ganadería de Hermanos Sánchez Herrero (Finca “Alvarillo”\, El Bodón)\, y al finalizar\, tendrá lugar un encierro de carretones en las zonas de San Pelayo y Los Pinos\, promovido por la misma asociación.\n\n\n \n\n\nSobre las 13:00 horas se llevará a cabo el primer encierro tradicional\, desde los corrales de la calle Duero\, con 3 toros de la ganadería de Monte la Ermita\, (Villamantilla\, Madrid). A los que se suman los dos toros de la capea nocturna\, de Antonio López Gibaja.\n\n\n Al finalizar encierro\, en la galería alta de la Casa Consistorial\, entrega de los premios del XI Concurso Fotográfico Calendario Carnavalesco 2025 promovido por la Asociación Carnavaldeltoro.es\, y posteriormente el desfile de Disfraz Callejero\, modalidades individual y colectiva.\n\n\nLos participantes se concentrarán en la plaza Campo del Pozo\, desfilando por plaza Cristóbal de Castillejo y la calle San Juan hasta la Plaza Mayor. La participación en el desfile se realizará siguiendo el orden de inscripción.\n\n\n \n\n\nA las 16:30 horas\, la plaza Mayor acogerá el Festival Taurino con Picadores\, con 4 reses de la ganadería de Talavante para los diestros: Diego Urdiales\, Alejandro Talavante\, Pablo Aguado\, el Mene (novillero).\n\n\n \n\n\nAl finalizar el festival taurino\, la Escuela de Tauromaquia\, Moisés Fraile realizará una Clase Práctica\, seguido de la Capea tradicional y Desencierro.\n\n\n \n\n\nA las 21:00 horas\, se celebrará el Baile de disfraces de adultos\, en el pabellón municipal de Foxá con:\n\n\n– 23:00 h a 00:00 h. Dj. Mario Salcedo\n\n\n– 00:00 h a 4:00 h. Grupo Orquesta “SMS”\n\n\n– 04:00 h a cierre Dj. Mario Salcedo\n\n\n 
URL:https://turismo.ciudadrodrigo.es/evento/24919/
CATEGORIES:Carnaval,Ciudad Rodrigo
END:VEVENT
END:VCALENDAR