BEGIN:VCALENDAR
VERSION:2.0
PRODID:-//Ciudad Rodrigo - ECPv6.15.20//NONSGML v1.0//EN
CALSCALE:GREGORIAN
METHOD:PUBLISH
X-WR-CALNAME:Ciudad Rodrigo
X-ORIGINAL-URL:https://turismo.ciudadrodrigo.es
X-WR-CALDESC:Eventos para Ciudad Rodrigo
REFRESH-INTERVAL;VALUE=DURATION:PT1H
X-Robots-Tag:noindex
X-PUBLISHED-TTL:PT1H
BEGIN:VTIMEZONE
TZID:UTC
BEGIN:STANDARD
TZOFFSETFROM:+0000
TZOFFSETTO:+0000
TZNAME:UTC
DTSTART:20250101T000000
END:STANDARD
END:VTIMEZONE
BEGIN:VEVENT
DTSTART;TZID=UTC:20260222T120000
DTEND;TZID=UTC:20260222T193000
DTSTAMP:20260423T025747
CREATED:20260118T114305Z
LAST-MODIFIED:20260120T093839Z
UID:24933-1771761600-1771788600@turismo.ciudadrodrigo.es
SUMMARY:CARNAVAL DEL TORO. Domingo de Piñata
DESCRIPTION:Para rematar con el Carnaval de 2026\, hoy nos despedimos con la última suelta de vaquillas en la zona del Registro\, a las 12:00 de la mañana se soltarán dos vaquillas de la ganadería de Hermanos Sánchez Herrero en la zona del Registro. Amenizada por la charanga “Manliao” \nAl finalizar el festejo taurino a eso de las 14:00 h\, en el Pabellón Municipal de la Avda. Agustín de Foxá\, como es tradicional\, el Domingo de Piñata\, se repartirá un guiso de patatas con carne de toro y al finalizar la comida\, sobre las 16:30h\, se hará entrega de los premios y trofeos de los concursos del Carnaval del Toro 2026 y concierto musical. \nPara finalizar el día a las 18:00 h. “Zumba Sisters”  impartirá la IX MasterClass de Zumba .
URL:https://turismo.ciudadrodrigo.es/evento/domingo-de-pinata-2/
CATEGORIES:Carnaval,Ciudad Rodrigo,ViveCiudadRodrigo
END:VEVENT
END:VCALENDAR