BEGIN:VCALENDAR
VERSION:2.0
PRODID:-//Ciudad Rodrigo - ECPv6.15.20//NONSGML v1.0//EN
CALSCALE:GREGORIAN
METHOD:PUBLISH
X-WR-CALNAME:Ciudad Rodrigo
X-ORIGINAL-URL:https://turismo.ciudadrodrigo.es
X-WR-CALDESC:Eventos para Ciudad Rodrigo
REFRESH-INTERVAL;VALUE=DURATION:PT1H
X-Robots-Tag:noindex
X-PUBLISHED-TTL:PT1H
BEGIN:VTIMEZONE
TZID:UTC
BEGIN:STANDARD
TZOFFSETFROM:+0000
TZOFFSETTO:+0000
TZNAME:UTC
DTSTART:20250101T000000
END:STANDARD
END:VTIMEZONE
BEGIN:VEVENT
DTSTART;TZID=UTC:20260215T230000
DTEND;TZID=UTC:20260216T013000
DTSTAMP:20260425T143652
CREATED:20260124T154336Z
LAST-MODIFIED:20260124T154535Z
UID:24970-1771196400-1771205400@turismo.ciudadrodrigo.es
SUMMARY:CARNAVAL DEL TORO - XII CONCURSO RECORTES
DESCRIPTION:Hoy a las 23.00h. en la Plaza Mayor se celebrará el XII concurso de recortadores\, podremos disfrutar de los tradicionales recortes goyescos\, con cuatro toros de las ganaderías de Andrés Celestino y La Gargantilla\, donde se realizarán quiebros\, recortes y saltos.
URL:https://turismo.ciudadrodrigo.es/evento/carnaval-del-toro-xii-concurso-recortes/
CATEGORIES:#CiudadRodrigo #CiudadRodrigoTurismo #CarnavalDelToro2026 #CarnavalDelToro #Carnaval #Toros #Encierros #Bulls #bullfighter #bullfighting #Carnival #ExperienciasAmalia
END:VEVENT
END:VCALENDAR