BEGIN:VCALENDAR
VERSION:2.0
PRODID:-//Ciudad Rodrigo - ECPv6.15.20//NONSGML v1.0//EN
CALSCALE:GREGORIAN
METHOD:PUBLISH
X-WR-CALNAME:Ciudad Rodrigo
X-ORIGINAL-URL:https://turismo.ciudadrodrigo.es
X-WR-CALDESC:Eventos para Ciudad Rodrigo
REFRESH-INTERVAL;VALUE=DURATION:PT1H
X-Robots-Tag:noindex
X-PUBLISHED-TTL:PT1H
BEGIN:VTIMEZONE
TZID:UTC
BEGIN:STANDARD
TZOFFSETFROM:+0000
TZOFFSETTO:+0000
TZNAME:UTC
DTSTART:20250101T000000
END:STANDARD
END:VTIMEZONE
BEGIN:VEVENT
DTSTART;TZID=UTC:20260327T203000
DTEND;TZID=UTC:20260327T213000
DTSTAMP:20260421T225345
CREATED:20260307T105056Z
LAST-MODIFIED:20260314T124728Z
UID:25020-1774643400-1774647000@turismo.ciudadrodrigo.es
SUMMARY:VIERNES DE DOLORES
DESCRIPTION:Hoy a las  20:30\, dará inicio nuestra Semana Santa\, con la procesión de Nuestra Señora de los Dolores.\n\n\n\n La imagen saldrá de la Iglesia de San Agustín hacia la Santa Iglesia Catedral.\n\n\n\nRECORRIDO Iglesia San Agustín\, Calle San Juan\, Plaza Poeta Cristóbal de Castillejo\, Campo del pozo\, Calle Enrique Zarandieta\, Rúa del Sol\, Plaza Mayor\, Calle Cardenal Pacheco para finalizar el la S.I. Catedral.
URL:https://turismo.ciudadrodrigo.es/evento/viernes-de-dolores/
CATEGORIES:Procesiones,Semana santa,ViveCiudadRodrigo
ATTACH;FMTTYPE=image/jpeg:https://turismo.ciudadrodrigo.es/wp-content/uploads/2026/03/cartel-ss.jpg
END:VEVENT
BEGIN:VEVENT
DTSTART;TZID=UTC:20260329T123000
DTEND;TZID=UTC:20260329T210000
DTSTAMP:20260421T225345
CREATED:20260307T105433Z
LAST-MODIFIED:20260314T124819Z
UID:25029-1774787400-1774818000@turismo.ciudadrodrigo.es
SUMMARY:DOMINGO DE RAMOS
DESCRIPTION:Hoy a las  12:30\, desde la Iglesia Parroquial de Santa Marina tendrá lugar la subida de la Borriquilla\, previamente los fieles pueden recoger sus ramas de laurel en sus parroquias\, para acompañar a la Cofradía Jesús amigo de los niños en su recorrido por las calles de Ciudad Rodrigo.\n\n\n\n La imagen saldrá de la Iglesia de Santa Marina hacia la Santa Iglesia Catedral.\n\n\n\nRECORRIDO Iglesia de Santa Marina\, Puente Mayor\, Calle Nogales Delicado\, Calle Colada\, Plaza Mayor\, aquí Don José Luis Retama\, Obispo de Ciudad Rodrigo – Salamanca\, dará su bendición y dirigirá unas palabras a todos los niños y fieles presentes. Una vez terminado\, se retomará el recorrido por la Calle San Juan\, Calle Colegios\, Calle Velayos\, Calle Sánchez Arjona\, de nuevo a la Plaza Mayor\, Calle Julian Sánchez\, Calle Cardenal Pacheco para finalizar el la S.I. Catedral.\n\n\n\n Por la tarde a las 19:30\, desde la Iglesia del Sagrario\, saldrá la imagen de la Oración en el Huerto.\, acompañado del Ecce Homo.\n\n\n\nRECORRIDO Iglesia de Cerralbo\, Cardenal Pacheco\, Plaza de San Salvador\, Calle Diez Taravilla\, Calle Colada\, Plaza Mayor\, donde como viene siendo habitual la Cofradía del Nazareno escenificará el prendimiento de Cristo\, seguidamente se retomará el recorrido por la Rúa del Sol\, Calle Gigantes\, Calle Arco\, Campo del Pozo\, Plaza Poeta Cristóbal de Castillejo\, Calle San Juan\, Calle Colegios\, Calle Velayos\, Calle Sánchez Arjona\, de nuevo a la Plaza Mayor\, Calle Julian Sánchez\, Calle Cardenal Pacheco para finalizar de nuevo en la Iglesia de Cerralbo.
URL:https://turismo.ciudadrodrigo.es/evento/domingo-de-ramos/
CATEGORIES:Ciudad Rodrigo,Procesiones,Semana santa,ViveCiudadRodrigo
ATTACH;FMTTYPE=image/jpeg:https://turismo.ciudadrodrigo.es/wp-content/uploads/2026/03/cartel-ss.jpg
END:VEVENT
BEGIN:VEVENT
DTSTART;TZID=UTC:20260331T220000
DTEND;TZID=UTC:20260331T233000
DTSTAMP:20260421T225345
CREATED:20260307T111211Z
LAST-MODIFIED:20260314T124916Z
UID:25033-1774994400-1774999800@turismo.ciudadrodrigo.es
SUMMARY:MARTES SANTO
DESCRIPTION: \n \nHoy a las  22:00\, desde la Iglesia de San Pedro – San Isidoro tendrá lugar la Procesión de las Cinco Llagas de Cristo\, organizada por la Cofradía de la Santa Cruz y la Colaboración del coro de la Iglesia de San Andrés.\n\n\n\n La imagen saldrá de la Iglesia San Pedro – San Isidoro y recorrerá las calles de la Ciudad realizando la lectura de las Cinco Llagas de Cristo\, las cuales serán leídas por el Capellán de la Cofradía\, Don Fernando Días Bailón Alonso en los lugares marcados\, a saber: 1ª Convento de las Franciscanas Descalzas (residencia Obispo Téllez)\, 2ª Venerable Orden Tercera\, 3ª Registro\, 4ª Bóveda de la Puerta del Sol\, 5ª Iglesia de San Pedro – San Isidoro.\n\n\n\nRECORRIDO Iglesia de San Pedro – San Isidoro\, Plaza Poeta Cristóbal de Castillejo\, Campo del Pozo\, Calle Gigantes\, Rúa del Sol\, Calle Santo Sepulcro\, Calle Campo Frio\, Calle Madrid\, Registro\, Paseo Fernando Arrabal\, Rúa del Sol\, Calle Enrique Zarandieta\, Campo del Pozo\, Plaza de Cristóbal de Castillejo\, para acabar nuevamente en la Iglesia de San Pedro – San Isidoro.
URL:https://turismo.ciudadrodrigo.es/evento/martes-santo/
CATEGORIES:Ciudad Rodrigo,Procesiones,Semana santa,ViveCiudadRodrigo
ATTACH;FMTTYPE=image/jpeg:https://turismo.ciudadrodrigo.es/wp-content/uploads/2026/03/cartel-ss.jpg
END:VEVENT
END:VCALENDAR