BEGIN:VCALENDAR
VERSION:2.0
PRODID:-//Ciudad Rodrigo - ECPv6.15.20//NONSGML v1.0//EN
CALSCALE:GREGORIAN
METHOD:PUBLISH
X-ORIGINAL-URL:https://turismo.ciudadrodrigo.es
X-WR-CALDESC:Eventos para Ciudad Rodrigo
REFRESH-INTERVAL;VALUE=DURATION:PT1H
X-Robots-Tag:noindex
X-PUBLISHED-TTL:PT1H
BEGIN:VTIMEZONE
TZID:UTC
BEGIN:STANDARD
TZOFFSETFROM:+0000
TZOFFSETTO:+0000
TZNAME:UTC
DTSTART:20250101T000000
END:STANDARD
END:VTIMEZONE
BEGIN:VEVENT
DTSTART;TZID=UTC:20260321T080000
DTEND;TZID=UTC:20260405T170000
DTSTAMP:20260420T001435
CREATED:20260307T103249Z
LAST-MODIFIED:20260314T122332Z
UID:25010-1774080000-1775408400@turismo.ciudadrodrigo.es
SUMMARY:SEMANA SANTA 2026
DESCRIPTION:Semana Santa  \nCiudad Rodrigo acoge desde el 27 de marzo al 5 de abril su Semana Santa\, con el pregón de inicio de la misma el día 21 de Marzo en el Teatro nuevo Fernando Arrabal a cargo De Don Atilano\, antiguo obispo civitatense desde el 2003 al 2011. \nOs dejamos el programa para su consulta.
URL:https://turismo.ciudadrodrigo.es/evento/semana-santa-2026/
CATEGORIES:Ciudad Rodrigo,Pregón,Semana santa,ViveCiudadRodrigo
ATTACH;FMTTYPE=image/jpeg:https://turismo.ciudadrodrigo.es/wp-content/uploads/2026/03/cartel-ss.jpg
END:VEVENT
BEGIN:VEVENT
DTSTART;TZID=UTC:20260330T213000
DTEND;TZID=UTC:20260330T230000
DTSTAMP:20260420T001435
CREATED:20260309T160947Z
LAST-MODIFIED:20260320T084838Z
UID:25068-1774906200-1774911600@turismo.ciudadrodrigo.es
SUMMARY:REPRESENTACIÓN DE LA PASIÓN
DESCRIPTION:Este año La Pasión\, Representada por el Grupo El Manantial\, tiene como punto de referencia a San Francisco de Asís en el 8º aniversario de su muerte.\n\n\n \n\n\nLa representación se llevará a cabo en la Santa Iglesia Catedral el Lunes 30 de Marzo a las 21:30\, donde San Francisco se unirá a un grupo de peregrinos que marchan hacia Santiago de Compostela\, esta representación se engloba dentro de los actos programados para celebrar el aniversario de la muerte del Santo de Asís\, dentro del programa «Peregrinos de Esperanza». \n\n\n \n\n\nAcercaros a Vivir la Pasión de Cristo con los jóvenes que año tras año\, representan este drama poniendo en su Corazón.\n\n\nEntrada libre hasta completar aforo.\n\n\n\niónnantial
URL:https://turismo.ciudadrodrigo.es/evento/representacion-de-la-pasion/
CATEGORIES:Ciudad Rodrigo,El Manantial,La Pasión,Montaje Teatral,Semana santa,ViveCiudadRodrigo
ATTACH;FMTTYPE=image/jpeg:https://turismo.ciudadrodrigo.es/wp-content/uploads/2026/03/pasion.jpg
END:VEVENT
END:VCALENDAR