BEGIN:VCALENDAR
VERSION:2.0
PRODID:-//Ciudad Rodrigo - ECPv6.15.20//NONSGML v1.0//EN
CALSCALE:GREGORIAN
METHOD:PUBLISH
X-ORIGINAL-URL:https://turismo.ciudadrodrigo.es
X-WR-CALDESC:Eventos para Ciudad Rodrigo
REFRESH-INTERVAL;VALUE=DURATION:PT1H
X-Robots-Tag:noindex
X-PUBLISHED-TTL:PT1H
BEGIN:VTIMEZONE
TZID:UTC
BEGIN:STANDARD
TZOFFSETFROM:+0000
TZOFFSETTO:+0000
TZNAME:UTC
DTSTART:20250101T000000
END:STANDARD
END:VTIMEZONE
BEGIN:VEVENT
DTSTART;TZID=UTC:20260321T080000
DTEND;TZID=UTC:20260405T170000
DTSTAMP:20260420T001435
CREATED:20260307T103249Z
LAST-MODIFIED:20260314T122332Z
UID:25010-1774080000-1775408400@turismo.ciudadrodrigo.es
SUMMARY:SEMANA SANTA 2026
DESCRIPTION:Semana Santa  \nCiudad Rodrigo acoge desde el 27 de marzo al 5 de abril su Semana Santa\, con el pregón de inicio de la misma el día 21 de Marzo en el Teatro nuevo Fernando Arrabal a cargo De Don Atilano\, antiguo obispo civitatense desde el 2003 al 2011. \nOs dejamos el programa para su consulta.
URL:https://turismo.ciudadrodrigo.es/evento/semana-santa-2026/
CATEGORIES:Ciudad Rodrigo,Pregón,Semana santa,ViveCiudadRodrigo
ATTACH;FMTTYPE=image/jpeg:https://turismo.ciudadrodrigo.es/wp-content/uploads/2026/03/cartel-ss.jpg
END:VEVENT
BEGIN:VEVENT
DTSTART;TZID=UTC:20260402T080000
DTEND;TZID=UTC:20260405T170000
DTSTAMP:20260420T001435
CREATED:20260223T112448Z
LAST-MODIFIED:20260309T110944Z
UID:24995-1775116800-1775408400@turismo.ciudadrodrigo.es
SUMMARY:V MERCADO ARTESANO
DESCRIPTION:V Mercado Artesano \nDel 2 al 5 de abril de 2026 \nEn la Plaza del Buen Alcalde
URL:https://turismo.ciudadrodrigo.es/evento/feria-botijeros/
CATEGORIES:Ciudad Rodrigo,Experiencia Amalia,Semana santa,ViveCiudadRodrigo
ATTACH;FMTTYPE=image/png:https://turismo.ciudadrodrigo.es/wp-content/uploads/2026/02/2026_6_Cartel-V-Mercado-Artesano.png
END:VEVENT
BEGIN:VEVENT
DTSTART;VALUE=DATE:20260403
DTEND;VALUE=DATE:20260404
DTSTAMP:20260420T001435
CREATED:20260307T115227Z
LAST-MODIFIED:20260314T125626Z
UID:25044-1775174400-1775260799@turismo.ciudadrodrigo.es
SUMMARY:VIERNES SANTO
DESCRIPTION:Hoy a las  11:00\, desde la Iglesia de San Agustín dará comienzo la procesión del Santo Encuentro realizando un recorrido por las calles de Ciudad Rodrigo.\n\n\n\n La imagen del Nazareno saldrá de la Iglesia de San Agustín\, mientras que la Dolorosa\, saldrá de la S.I. Catedral.\n\n\nRECORRIDO Nazareno: Iglesia de San Agustín\, Plaza Poeta Cristóbal de Castillejo\, Campo del Pozo\, Calle Enrique Zarandieta\, Rúa del Sol\, Plaza Mayor\,\n\nDolorosa: saldrá a las  11:15 de la S.I. Catedral\, Plaza San Salvador\, Calle Diez Taravilla\, Calle Colada\, Plaza Mayor\, donde se encontrará con la imagen de su hijo\, desde allí\, se dirigirán a la S.I. Catedral por la Calle Madrid\, Plaza del Conde\, Calle Cáceres\, Avd. Yurramendi para finalizar en la S.I. Catedral.\n\n\n\n \nPor la tarde a las  19:00\, desde la S.I Catedral tendrá lugar la procesión del Santo Entierro\, donde por orden cronológico irán saliendo todas las cofradías para acompañar junto con la Corporación Municipal al Yacente.\n\n\n\n Los pasos\, saldrán de la S.I. Catedral hacia su sede habitual.\n\n\n\nRECORRIDO S.I Catedral\, Calle Cardenal Pacheco\, Plaza Mayor\, Rúa del Sol\, Calle Enrique Zarandieta\, Campo del pozo\, Plaza Poeta Cristóbal de Castillejo\, Calle San Juan\, Calle Colegios\, Calle Velayos\, Calle Sánchez Arjona\, Plaza Mayor\, Calle Cardenal Pacheco para finalizar nuevamente en la S.I. Catedral. Durante este recorrido\, las cofradías irán quedándose en sus respectivas sedes\, siendo la Dolorosa\, la Soledad y el Yacente los únicos que retornarán a la S.I Catedral.\n\n\n\n Para rematar el día\, a las  22: 30\, desde Iglesia de S.I Catedral\, tendrá lugar la Procesión de Nuestra Alcaldesa\, la Virgen de la Soledad.\n\n\n\n La Imagen\, saldrá de la S.I. Catedral tras el rezo del Rosario y la reflexión en torno a Nuestra Señora de la Soledad\, haciendo un recorrido circular.\n\n\n\nRECORRIDO S.I Catedral\, Plaza San Salvador\, Calle Diez Taravilla\, Calle Colada\, Plaza Mayor\, Calle San Juan\, Calle Campo Carniceros\, Calle Domingo Bordona\, Plaza Domingo Centeno\, Campo del Pozo\, Calle Enrique Zarandieta\, Calle Muralla\, Calle Campofrío\, Calle Madrid\, Plaza Mayor\, Calle Julian Sánchez Calle Cardenal Pacheco para concluir en su sede\, la S.I Catedral\, donde se cantará una Salve a nuestra Señora.
URL:https://turismo.ciudadrodrigo.es/evento/viernes-santo/
CATEGORIES:Ciudad Rodrigo,Procesiones,Semana santa,ViveCiudadRodrigo
ATTACH;FMTTYPE=image/jpeg:https://turismo.ciudadrodrigo.es/wp-content/uploads/2026/03/cartel-ss.jpg
END:VEVENT
END:VCALENDAR