BEGIN:VCALENDAR
VERSION:2.0
PRODID:-//Ciudad Rodrigo - ECPv6.15.20//NONSGML v1.0//EN
CALSCALE:GREGORIAN
METHOD:PUBLISH
X-ORIGINAL-URL:https://turismo.ciudadrodrigo.es
X-WR-CALDESC:Eventos para Ciudad Rodrigo
REFRESH-INTERVAL;VALUE=DURATION:PT1H
X-Robots-Tag:noindex
X-PUBLISHED-TTL:PT1H
BEGIN:VTIMEZONE
TZID:UTC
BEGIN:STANDARD
TZOFFSETFROM:+0000
TZOFFSETTO:+0000
TZNAME:UTC
DTSTART:20250101T000000
END:STANDARD
END:VTIMEZONE
BEGIN:VEVENT
DTSTART;TZID=UTC:20260213T000000
DTEND;TZID=UTC:20260217T233000
DTSTAMP:20260422T215128
CREATED:20250813T090519Z
LAST-MODIFIED:20260209T080000Z
UID:24290-1770940800-1771371000@turismo.ciudadrodrigo.es
SUMMARY:PROGRAMA CARNAVAL DEL TORO 2026
DESCRIPTION:Os dejamos el Programa del Carnaval Del Toro 2026 de Ciudad Rodrigo \nVIERNES\, 13 DE FEBRERO \n– 18:15 horas\nXVII Primer Campanazo del Carnaval del Toro 2026\, promovido por la Asociación Cultural Carnavaldeltoro.es\, con reparto previo de pañuelos en la zona del Registro y la participación de las charangas “Santa Ana” y “Manliao”.\n– 19:00 horas\nEncierro de Mansos\nTradicional encierro de mansos desde los toriles de San Pelayo para “enseñarles el camino”\, con cabestros de la ganadería de D. Luis Cebrián.\n– 20:15 horas\nPregoncillo. Apertura de las Fiestas Grandes desde la galería alta de la Casa Consistorial por el Pregonero Mayor D. Alejandro Talavante Rodríguez.\n– 20:30 horas\nPregón Mayor\nEn el Teatro Nuevo “Fernando Arrabal” tendrá lugar el Pregón Mayor del Carnaval del Toro de 2026 a cargo del pregonero D. Alejandro Talavante Rodríguez.\nEntrada gratuita con invitación hasta completar aforo. Se entregarán 4 invitaciones por persona\, poniéndose a disposición del público en la taquilla del Teatro Nuevo\, el martes 10 de febrero\, de 8:00 a 10:00 horas y el viernes día 13 de febrero de 19:30 horas en adelante o hasta completar el aforo. \n– 00:05 horas\nEn la Plaza Mayor\, tradicional «cogida de barreras por los mozos». \n– 00:15 horas\nPlaza Mayor. Capea nocturna con 2 toros de la Ganadería de D. Antonio López Gibaja (Oliva de Plasencia\, Cáceres). \nSÁBADO\, 14 DE FEBRERO \n– 11:00 horas\nXV Toro del Antruejo 2026\, desde los toriles de San Pelayo\, de nombre “Valenciano” de la Ganadería de Hermanos Sánchez Herrero (Finca “Alvarillo”\, El Bodón).\nFestejo promovido por la Asociación Cultural Carnavaldeltoro.es.\nAl finalizar\, tendrá lugar un encierro de carretones en las zonas de San Pelayo y Los Pinos\, promovido por la misma asociación.\n– 13:00 horas\nEncierro tradicional\, desde los corrales de la calle Duero\, con 3 toros de la ganadería de Monte la Ermita\, (Villamantilla\, Madrid). A los que se suman los dos toros de la capea nocturna\, de Antonio López Gibaja.\n– Al finalizar encierro\, en la galería alta de la Casa Consistorial\, entrega de los premios del XI Concurso Fotográfico Calendario Carnavalesco 2025 promovido por la Asociación Carnavaldeltoro.es.\n– Al finalizar el encierro:\nDesfile de Disfraz Callejero\, modalidades individual y colectiva\nLos participantes se concentrarán en la plaza Campo del Pozo\, desfilando por plaza Cristóbal de Castillejo y la calle San Juan hasta la Plaza Mayor. La participación en el desfile se realizará siguiendo el orden de inscripción.\n– 16:30 horas\nFestival Taurino con Picadores\, con 4 reses de la ganadería de Talavante para los diestros:\n– Diego Urdiales\n– Alejandro Talavante\n– Pablo Aguado\n– El Mene (novillero)\n– Clase Práctica: Escuelas de Tauromaquia\, Moisés Fraile.\n(Nota. El nombre de los diestros puede variar)\n– A continuación\,\nCapea tradicional y Desencierro.\n– 21:00 horas.\nBaile de disfraces adultos\, en el pabellón municipal de Foxá.\n– 23:00 h a 00:00 h. Dj. Mario Salcedo\n– 00:00 h a 4:00 h. Grupo Orquesta “SMS”\n– 04:00 h a cierre Dj. Mario Salcedo \nDOMINGO\, 15 DE FEBRERO\n– 11:00 horas\nEncierro Mixto (Encierro con caballos)\nDesde la dehesa de Casasola\, seis toros de la ganadería de D. Antonio López Gibaja\, acompañados de la correspondiente parada de bueyes.\n– A continuación\,\nCapea tradicional y Desencierro al estilo tradicional.\n– 16:30 horas\nNovillada sin Picadores con 4 reses de la ganadería de Orive\, para los cuatro finalistas de la 70 temporada del Bolsín Taurino Mirobrigense.\nA continuación\, de Espectáculo de Rejones\, con el rejoneador Víctor Herrero\, de El Bodón\, (evento aportado por los constructores de los tablaos).\n– A continuación\,\nCapea tradicional y Desencierro al estilo tradicional.\n– 18:00 horas\nBaile Infantil de Disfraces\, Pabellón municipal de Foxá.\n18:00 h. a 21:00 h. Castillos Hinchables con monitor. Regalo para todos los niños.\n19:00 h. a 21:00 h. Music Vibrass & Zumba Sisters\n– 23:00 horas\nConcurso de Recortes Goyesco. XII Trofeo “III Columnas”\nEn la plaza de toros de la Plaza Mayor de Ciudad Rodrigo.\nOrganiza: LidiArte Charro\, S.L.\nColabora: Excmo. Ayuntamiento de Ciudad Rodrigo. \nLUNES\, 16 DE FEBRERO. \n– 11:00 horas\nEncierro Tradicional\nDesde los corrales de la calle Duero\, seis toros de la ganadería de Fermín Bohórquez\, (dehesa “Fuente Rey”\, Jerez de la Frontera\, Cádiz).\n– A continuación\,\nCapea tradicional y Desencierro al estilo tradicional.\n– 16:30 horas\nNovillada con picadores con 4 reses de la ganadería de Hermanos Sánchez Herrero\, para los novilleros:\n– Tomás Bastos\n– Julio Méndez\n– Félix San Román\n– Diego Mateos (debut con picadores).\n(Nota. El nombre de los diestros puede variar).\nSeguidamente\, Desfile de Carrozas.\nLas diferentes Carrozas del Carnaval 2026 se concentrarán en la plaza de Herrasti y plazuela de San Salvador. Desfilarán por la calle Julián Sánchez hasta el coso taurino de la Plaza Mayor\, con salida por la calle San Juan.\n– A continuación\,\nCapea tradicional y Desencierro al estilo tradicional.\n– 18:00 horas\nBaile de disfraces Mayores. Pabellón municipal de Foxá.\n18:00 h. a 21:00 h. Trio Music Animación Mayores. \n– 00:05 horas\nCapea nocturna con 2 toros de la ganadería de Toros de Brazuelas (Alcazarén\, Valladolid). \nMARTES\, 17 DE FEBRERO. \n– 09:00 horas\nToro del Aguardiente. Plaza Mayor\, suelta en capea tradicional entre la Plaza Mayor y el Registro\, a través de la calle Madrid del “Toro del Aguardiente” de la ganadería de Hermanos Sánchez Herrero\, donado por Sánchez Cepa y Aceitunas Miroliva\, de Ciudad Rodrigo.\n– 11:00 horas\nEncierro tradicional\, desde los corrales de la calle Duero. Seis toros de la ganadería Hermanos Sánchez Herrero\, (finca “Alvarillo”\, El Bodón).\n– A continuación\,\nCapea tradicional y Desencierro al estilo tradicional.\nDurante la capea matinal y después del primer toro\, se hará entrega por parte de la asociación Carnavaldeltoro.es\, de la distinción “Conrado Abad” al maletilla más destacado del Carnaval del Toro 2026.\n– 16:30 horas\nFestival Taurino con Picadores con 4 reses de la ganadería de Juan Manuel Criado para:\n– Miguel Ángel Perera.\n– Borja Jiménez\n– Manuel Diosleguarde\n– Triunfador del Bolsín Taurino Mirobrigense. 70ª temporada.\n(Nota. El nombre de los diestros puede variar).\n– A continuación\,\nCapea tradicional y Desencierro al estilo tradicional.\n– Pasacalles de Cenizos 2026.\nPromueven asociaciones y peñas del Carnaval.\n– 20:00 horas\nPlazuela del Buen Alcalde\, cierre simbólico de las casetas donde se obsequiará a los asistentes con bebida y productos típicos de la tierra.\n– 21:00 horas\nSalida hacia la Plaza Mayor por la calle Julián Sánchez del Toro de Cenizos.\n– 21:15 horas\nPlaza Mayor\, quema del Toro de Cenizos\, gargantillas y pañuelos\, para terminar con fuegos artificiales.
URL:https://turismo.ciudadrodrigo.es/evento/carnaval-del-toro-2026/
CATEGORIES:Carnaval
ATTACH;FMTTYPE=image/jpeg:https://turismo.ciudadrodrigo.es/wp-content/uploads/2025/08/Cartel-carnaval-2026.jpg
END:VEVENT
BEGIN:VEVENT
DTSTART;VALUE=DATE:20260217
DTEND;VALUE=DATE:20260218
DTSTAMP:20260422T215128
CREATED:20260117T124939Z
LAST-MODIFIED:20260120T093417Z
UID:24930-1771286400-1771372799@turismo.ciudadrodrigo.es
SUMMARY:CARNAVAL DEL TORO. Martes de Carnaval
DESCRIPTION:Tras la capea nocturna de anoche\, hoy amanecemos a las 9:00 horas\, con el  Toro del Aguardiente\, entre la Plaza Mayor y el Registro. \nPosteriormente como viene siendo habitual durante los dias de carnaval podeis disfrutar a las 11:00 horas del Encierro tradicional\, desde los corrales de la calle Duero. Seis toros de la ganadería Hermanos Sánchez Herrero\, (finca “Alvarillo”\, El Bodón)\, seguido de la capea y desencierro. Durante la capea matinal y después del primer toro\, se hará entrega por parte de la asociación Carnavaldeltoro.es\, de la distinción “Conrado Abad” al maletilla más destacado del Carnaval del Toro 2026. \nA las 16:30 horas\, podremos disfrutar del último Festival Taurino con Picadores con 4 reses de la ganadería de Juan Manuel Criado para:\n– Miguel Ángel Perera\, Borja Jiménez\, Manuel Diosleguarde y el Triunfador del Bolsín Taurino Mirobrigense. 70ª temporada. \nCapea tradicional y Desencierro al estilo tradicional. \nFinalizamos el Carnaval con el Pasacalles de Cenizos 2026.
URL:https://turismo.ciudadrodrigo.es/evento/martes-de-carnaval/
CATEGORIES:Carnaval,Ciudad Rodrigo
END:VEVENT
END:VCALENDAR