BEGIN:VCALENDAR
VERSION:2.0
PRODID:-//Ciudad Rodrigo - ECPv6.15.20//NONSGML v1.0//EN
CALSCALE:GREGORIAN
METHOD:PUBLISH
X-ORIGINAL-URL:https://turismo.ciudadrodrigo.es
X-WR-CALDESC:Eventos para Ciudad Rodrigo
REFRESH-INTERVAL;VALUE=DURATION:PT1H
X-Robots-Tag:noindex
X-PUBLISHED-TTL:PT1H
BEGIN:VTIMEZONE
TZID:UTC
BEGIN:STANDARD
TZOFFSETFROM:+0000
TZOFFSETTO:+0000
TZNAME:UTC
DTSTART:20240101T000000
END:STANDARD
END:VTIMEZONE
BEGIN:VEVENT
DTSTART;TZID=UTC:20251214T200000
DTEND;TZID=UTC:20251214T220000
DTSTAMP:20260422T155118
CREATED:20251210T095227Z
LAST-MODIFIED:20251211T153340Z
UID:24704-1765742400-1765749600@turismo.ciudadrodrigo.es
SUMMARY:Concierto Navideño Barahona Big - Band
DESCRIPTION:Hoy en Ciudad Rodrigo A las 20:00h\, el Teatro Fernando Arrabal\, acogerá un concierto de Navidad a cargo de la Barahona Big Band \nEl acceso será libre hasta completar aforo.\n\n\n\n\n\n\n\n 
URL:https://turismo.ciudadrodrigo.es/evento/24704/
CATEGORIES:Ciudad Rodrigo,Concierto Navidad,Experiencia Amalia,Navidad 2025,ViveCiudadRodrigo
END:VEVENT
END:VCALENDAR