BEGIN:VCALENDAR
VERSION:2.0
PRODID:-//Ciudad Rodrigo - ECPv6.15.20//NONSGML v1.0//EN
CALSCALE:GREGORIAN
METHOD:PUBLISH
X-ORIGINAL-URL:https://turismo.ciudadrodrigo.es
X-WR-CALDESC:Eventos para Ciudad Rodrigo
REFRESH-INTERVAL;VALUE=DURATION:PT1H
X-Robots-Tag:noindex
X-PUBLISHED-TTL:PT1H
BEGIN:VTIMEZONE
TZID:UTC
BEGIN:STANDARD
TZOFFSETFROM:+0000
TZOFFSETTO:+0000
TZNAME:UTC
DTSTART:20250101T000000
END:STANDARD
END:VTIMEZONE
BEGIN:VEVENT
DTSTART;TZID=UTC:20260206T203000
DTEND;TZID=UTC:20260206T220000
DTSTAMP:20260420T013413
CREATED:20260117T095838Z
LAST-MODIFIED:20260120T085754Z
UID:24897-1770409800-1770415200@turismo.ciudadrodrigo.es
SUMMARY:CARNAVAL DEL TORO. Pregón de la Peña “El Caballo”
DESCRIPTION:Hoy el teatro Nuevo Fernando Arrabal\, acogerá la presentación del  Pregón de la peña “El Caballo”a las 20:30 horas a cargo de Pedro y Verónica Gutiérrez Lorenzo.\n\n\nPosteriormente se hará entrega del galardón de la “Garrocha de Plata” a D. Santiago Lobato Fandiño.
URL:https://turismo.ciudadrodrigo.es/evento/pregon-de-la-pena-el-caballo-2/
CATEGORIES:Carnaval,Ciudad Rodrigo,ViveCiudadRodrigo
END:VEVENT
BEGIN:VEVENT
DTSTART;VALUE=DATE:20260207
DTEND;VALUE=DATE:20260208
DTSTAMP:20260420T013413
CREATED:20260117T100439Z
LAST-MODIFIED:20260120T085959Z
UID:24900-1770422400-1770508799@turismo.ciudadrodrigo.es
SUMMARY:CARNAVAL DEL TORO. Montaje de tablaos y más
DESCRIPTION:Hoy empieza el Montaje de tablaos\, a partir de las 10:00 de la mañana\, comienza el paquetear de los martillos sobre los clavos del ocho\, creando en la plaza un sonido único que ameniza el trabajo de los montadores de los tablaos que dan forma al coso taurino del Carnaval\, labor ancestral declarada Bien de Interés Cultural por la Junta de Castilla y León.\n\n\n\nA las 12:00 horas en las inmediaciones del Árbol Gordo\, se llevará a cabo el Homenaje al Carnaval del Toro con la inauguración del Monumento al Carnaval. Autor: Sergio Alonso Moro.\n\n\n\nPara finalizar el día\, el teatro Nuevo Fernando Arrabal\, acogerá la presentación del Pregón de la Asociación Charra del Caballo a las 20:30 horas que correrá a cargo de D. Jesús Cobaleda González-Zapatero.
URL:https://turismo.ciudadrodrigo.es/evento/montaje-de-tablaos-y-mas/
CATEGORIES:Carnaval,Ciudad Rodrigo,Montaje de Tablaos,ViveCiudadRodrigo
END:VEVENT
BEGIN:VEVENT
DTSTART;TZID=UTC:20260210T200000
DTEND;TZID=UTC:20260210T220000
DTSTAMP:20260420T013413
CREATED:20260117T102621Z
LAST-MODIFIED:20260120T092141Z
UID:24908-1770753600-1770760800@turismo.ciudadrodrigo.es
SUMMARY:CARNAVAL DEL TORO. Pregón de la Peña “Puerta del Desencierro”
DESCRIPTION:Hoy a las 20:00 hora los componentes de la Peña “Puerta del Desencierro” se reunirán en el «Árbol Gordo»\, desde donde partirán hacia el Teatro Nuevo “Fernando Arrabal”\, allí serán proclamados D. Joaquín Sánchez Martín “Tato” y D. Laurentino Risueño Pérez “Lauren” como Porteros Mayores\, para posteriormente Dª. Beatriz Bernal Córdoba\, pronunciará su pregón.
URL:https://turismo.ciudadrodrigo.es/evento/pregon-de-la-pena-puerta-del-desencierro-2/
CATEGORIES:Carnaval,Ciudad Rodrigo
END:VEVENT
BEGIN:VEVENT
DTSTART;TZID=UTC:20260212T163000
DTEND;TZID=UTC:20260212T233000
DTSTAMP:20260420T013413
CREATED:20260117T110720Z
LAST-MODIFIED:20260120T092358Z
UID:24916-1770913800-1770939000@turismo.ciudadrodrigo.es
SUMMARY:CARNAVAL DEL TORO. Inauguración de las Casetas
DESCRIPTION:CARNAVAL DE CIUDAD RODRIGO\, ya estamos a las puertas para nuestra fiesta grande.\n\n\n\n\n\nHoy a las 16:30 horas en la Plaza Mayor\, tendrá lugar la prueba del caballo del Alguacilillo y posteriormente sobre las 16:45 horas el pasacalles de la Escuela municipal de Música. El pasacalles comenzará en la Escuela municipal de Música “Juan Esquivel de Barahona” hasta la Plaza Mayor donde el grupo “Barahona Modern Band” ofrecerá un pequeño concierto.\n\n\n \n\n\nSobre las 18:00h se realizará el segundo Tentadero de aficionados “Carnaval del Toro”\, en la Plaza Mayor a cargo de alumnos de la Escuela de Aficionados Prácticos de Ciudad Rodrigo\, con reses de la ganadería de Carreros. \n\n\n \n\n\nEl teatro Nuevo Fernando Arrabal\, acogerá a las 20:00 horas la proclamación del Triunfador y Finalistas de la 70 Temporada y Pregón del Bolsín Taurino Mirobrigense\, con el pregón de la agrupación\, a cargo de Dª. Beatriz Badorrey Martín.\n\n\n \n\n\nA las 22:00 horas la plazuela del Buen Alcalde dará el pistoletazo de salida con la Inauguración de las Casetas y el pregón a cargo de Dª. Sonsoles Salazar Prieto.
URL:https://turismo.ciudadrodrigo.es/evento/inauguracion-de-las-casetas/
CATEGORIES:Carnaval,Ciudad Rodrigo,Pregón
END:VEVENT
END:VCALENDAR