BEGIN:VCALENDAR
VERSION:2.0
PRODID:-//Ciudad Rodrigo - ECPv6.15.20//NONSGML v1.0//EN
CALSCALE:GREGORIAN
METHOD:PUBLISH
X-WR-CALNAME:Ciudad Rodrigo
X-ORIGINAL-URL:https://turismo.ciudadrodrigo.es
X-WR-CALDESC:Eventos para Ciudad Rodrigo
REFRESH-INTERVAL;VALUE=DURATION:PT1H
X-Robots-Tag:noindex
X-PUBLISHED-TTL:PT1H
BEGIN:VTIMEZONE
TZID:UTC
BEGIN:STANDARD
TZOFFSETFROM:+0000
TZOFFSETTO:+0000
TZNAME:UTC
DTSTART:20240101T000000
END:STANDARD
END:VTIMEZONE
BEGIN:VEVENT
DTSTART;TZID=UTC:20250530T200000
DTEND;TZID=UTC:20250530T210000
DTSTAMP:20260425T151109
CREATED:20250528T092406Z
LAST-MODIFIED:20250528T092406Z
UID:23979-1748635200-1748638800@turismo.ciudadrodrigo.es
SUMMARY:Teatro "El Gazpacho Andaluz"
DESCRIPTION:Entrada libre hasta completar aforo.
URL:https://turismo.ciudadrodrigo.es/evento/teatro-el-gazpacho-andaluz/
LOCATION:Teatro Nuevo Fernando Arrabal\, C. Gigantes\, 22\, Ciudad Rodrigo\, Salamanca\, 37500\, España
ATTACH;FMTTYPE=image/jpeg:https://turismo.ciudadrodrigo.es/wp-content/uploads/2025/05/Cartel-anunciador_El-Gazpacho-Andaluz.jpeg
END:VEVENT
END:VCALENDAR