BEGIN:VCALENDAR
VERSION:2.0
PRODID:-//Ciudad Rodrigo - ECPv6.15.20//NONSGML v1.0//EN
CALSCALE:GREGORIAN
METHOD:PUBLISH
X-WR-CALNAME:Ciudad Rodrigo
X-ORIGINAL-URL:https://turismo.ciudadrodrigo.es
X-WR-CALDESC:Eventos para Ciudad Rodrigo
REFRESH-INTERVAL;VALUE=DURATION:PT1H
X-Robots-Tag:noindex
X-PUBLISHED-TTL:PT1H
BEGIN:VTIMEZONE
TZID:UTC
BEGIN:STANDARD
TZOFFSETFROM:+0000
TZOFFSETTO:+0000
TZNAME:UTC
DTSTART:20250101T000000
END:STANDARD
END:VTIMEZONE
BEGIN:VEVENT
DTSTART;VALUE=DATE:20260216
DTEND;VALUE=DATE:20260217
DTSTAMP:20260422T225423
CREATED:20260117T123727Z
LAST-MODIFIED:20260120T093314Z
UID:24927-1771200000-1771286399@turismo.ciudadrodrigo.es
SUMMARY:CARNAVAL DEL TORO. Lunes de Carnaval
DESCRIPTION:Hoy comenzamos con com el tradicional encierro a las 11:00 horas\, salen desde los corrales de la calle Duero\, seis toros de la ganadería de Fermín Bohórquez\, (dehesa “Fuente Rey”\, Jerez de la Frontera\, Cádiz). para continuar con la capea tradicional y el desencierro. \nA las 16:30 horas la plaza mayor será el escenario de la novillada con picadores con 4 reses de la ganadería de Hermanos Sánchez Herrero\, para los novilleros:\n– Tomás Bastos\, Julio Méndez\, Félix San Román y Diego Mateos. \nAl final se desarrollará el Desfile de Carrozas. seguido de la Capea tradicional y Desencierro. \nEl Pabellón municipal de Foxá a las 18:00 horas celebrará el Baile de disfraces Mayores de 18:00 h. a 21:00 h. con la actuación musical del «Trio Music Animación Mayores». \n 
URL:https://turismo.ciudadrodrigo.es/evento/lunes-de-carnaval/
CATEGORIES:Carnaval,Ciudad Rodrigo
END:VEVENT
END:VCALENDAR